BEGIN:VCALENDAR
VERSION:2.0
PRODID:spatie/icalendar-generator
DESCRIPTION:Veranstaltungen von 4830.org
X-WR-CALDESC:Veranstaltungen von 4830.org
REFRESH-INTERVAL;VALUE=DURATION:PT1440M
X-PUBLISHED-TTL:PT1440M
BEGIN:VTIMEZONE
TZID:Europe/Berlin
BEGIN:STANDARD
DTSTART:20271031T030000Z
TZOFFSETFROM:+0200
TZOFFSETTO:+0100
END:STANDARD
BEGIN:DAYLIGHT
DTSTART:20280326T020000Z
TZOFFSETFROM:+0100
TZOFFSETTO:+0200
END:DAYLIGHT
END:VTIMEZONE
BEGIN:VTIMEZONE
TZID:UTC
BEGIN:STANDARD
DTSTART:20250726T061810Z
TZOFFSETFROM:+0000
TZOFFSETTO:+0000
END:STANDARD
END:VTIMEZONE
BEGIN:VEVENT
UID:29-2
DTSTAMP:20260422T061810Z
SUMMARY:Infrastrukturarbeiten 4830.org
LOCATION:
ORGANIZER;CN=Klaus Proppe:MAILTO:proppe@hosting-owl.de
RRULE:FREQ=MONTHLY;BYDAY=3TH;UNTIL=20351031T000000Z
DTSTART;TZID=Europe/Berlin:20280120T193000
DTEND;TZID=Europe/Berlin:20280120T220000
X-ALT-DESC;FMTTYPE=TEXT/HTML:Für gemeinsames Arbeiten an der Infra treffen
  sich die Admins am 3. Donnerstag eines Monats online.
CATEGORIES:Infrastruktur
URL;VALUE=URI:https://4830.org/mc-events/infrastrukturarbeiten-4830-org/?mc
 _id=29
METHOD:PUBLISH
END:VEVENT
END:VCALENDAR